BEGIN:VCALENDAR
VERSION:2.0
PRODID:-//QuiltingWithLori - ECPv6.15.11//NONSGML v1.0//EN
CALSCALE:GREGORIAN
METHOD:PUBLISH
X-ORIGINAL-URL:https://quiltingwithlori.com
X-WR-CALDESC:Events for QuiltingWithLori
REFRESH-INTERVAL;VALUE=DURATION:PT1H
X-Robots-Tag:noindex
X-PUBLISHED-TTL:PT1H
BEGIN:VTIMEZONE
TZID:America/Chicago
BEGIN:DAYLIGHT
TZOFFSETFROM:-0600
TZOFFSETTO:-0500
TZNAME:CDT
DTSTART:20240310T080000
END:DAYLIGHT
BEGIN:STANDARD
TZOFFSETFROM:-0500
TZOFFSETTO:-0600
TZNAME:CST
DTSTART:20241103T070000
END:STANDARD
BEGIN:DAYLIGHT
TZOFFSETFROM:-0600
TZOFFSETTO:-0500
TZNAME:CDT
DTSTART:20250309T080000
END:DAYLIGHT
BEGIN:STANDARD
TZOFFSETFROM:-0500
TZOFFSETTO:-0600
TZNAME:CST
DTSTART:20251102T070000
END:STANDARD
BEGIN:DAYLIGHT
TZOFFSETFROM:-0600
TZOFFSETTO:-0500
TZNAME:CDT
DTSTART:20260308T080000
END:DAYLIGHT
BEGIN:STANDARD
TZOFFSETFROM:-0500
TZOFFSETTO:-0600
TZNAME:CST
DTSTART:20261101T070000
END:STANDARD
BEGIN:DAYLIGHT
TZOFFSETFROM:-0600
TZOFFSETTO:-0500
TZNAME:CDT
DTSTART:20270314T080000
END:DAYLIGHT
BEGIN:STANDARD
TZOFFSETFROM:-0500
TZOFFSETTO:-0600
TZNAME:CST
DTSTART:20271107T070000
END:STANDARD
END:VTIMEZONE
BEGIN:VEVENT
DTSTART;VALUE=DATE:20260330
DTEND;VALUE=DATE:20260331
DTSTAMP:20260423T141356
CREATED:20260106T002239Z
LAST-MODIFIED:20260106T002239Z
UID:209724-1774828800-1774915199@quiltingwithlori.com
SUMMARY:Lori @ Virtual Cal-Co QG/ Battle Creek MI
DESCRIPTION:
URL:https://quiltingwithlori.com/event/lori-virtual-cal-co-qg-battle-creek-mi/
END:VEVENT
BEGIN:VEVENT
DTSTART;VALUE=DATE:20260309
DTEND;VALUE=DATE:20260314
DTSTAMP:20260423T141356
CREATED:20260210T222620Z
LAST-MODIFIED:20260210T222620Z
UID:209747-1773014400-1773446399@quiltingwithlori.com
SUMMARY:Quilters Paradise Summit
DESCRIPTION:
URL:https://quiltingwithlori.com/event/quilters-paradise-summit/
END:VEVENT
BEGIN:VEVENT
DTSTART;VALUE=DATE:20260301
DTEND;VALUE=DATE:20260309
DTSTAMP:20260423T141356
CREATED:20241120T222337Z
LAST-MODIFIED:20241120T222337Z
UID:209312-1772323200-1773014399@quiltingwithlori.com
SUMMARY:Teaching on Cruise w/Stitchin' Heaven (Miami/Bahamas/Jamaica/Mexico)
DESCRIPTION:
URL:https://quiltingwithlori.com/event/teaching-on-cruise-w-stitchin-heaven-miami-bahamas-jamaica-mexico/
END:VEVENT
BEGIN:VEVENT
DTSTART;VALUE=DATE:20260214
DTEND;VALUE=DATE:20260215
DTSTAMP:20260423T141356
CREATED:20251031T165333Z
LAST-MODIFIED:20251031T165333Z
UID:209633-1771027200-1771113599@quiltingwithlori.com
SUMMARY:Online BOM "Spring is in the Aire" Part 7
DESCRIPTION:https://www.youtube.com/@quiltingwithlori
URL:https://quiltingwithlori.com/event/online-bom-spring-is-in-the-aire-part-7/
END:VEVENT
BEGIN:VEVENT
DTSTART;VALUE=DATE:20260126
DTEND;VALUE=DATE:20260127
DTSTAMP:20260423T141356
CREATED:20250313T152206Z
LAST-MODIFIED:20260106T002019Z
UID:209411-1769385600-1769471999@quiltingwithlori.com
SUMMARY:Lori @ (Virtual) Mad City Quilt Guild\, Madison WI
DESCRIPTION:
URL:https://quiltingwithlori.com/event/lori-mad-city-quilt-guild-madison-wi/
END:VEVENT
BEGIN:VEVENT
DTSTART;VALUE=DATE:20260110
DTEND;VALUE=DATE:20260111
DTSTAMP:20260423T141356
CREATED:20251031T165256Z
LAST-MODIFIED:20251031T165256Z
UID:209631-1768003200-1768089599@quiltingwithlori.com
SUMMARY:Online BOM "Spring is in the Aire" Part 5
DESCRIPTION:https://www.youtube.com/@quiltingwithlori
URL:https://quiltingwithlori.com/event/online-bom-spring-is-in-the-aire-part-5/
END:VEVENT
BEGIN:VEVENT
DTSTART;VALUE=DATE:20251213
DTEND;VALUE=DATE:20251214
DTSTAMP:20260423T141356
CREATED:20251031T165123Z
LAST-MODIFIED:20251031T165123Z
UID:209629-1765584000-1765670399@quiltingwithlori.com
SUMMARY:Online BOM "Spring is in the Aire" Part 4
DESCRIPTION:https://www.youtube.com/@quiltingwithlori
URL:https://quiltingwithlori.com/event/online-bom-spring-is-in-the-aire-part-4/
END:VEVENT
BEGIN:VEVENT
DTSTART;VALUE=DATE:20251201
DTEND;VALUE=DATE:20251202
DTSTAMP:20260423T141356
CREATED:20251031T164827Z
LAST-MODIFIED:20251031T164827Z
UID:209625-1764547200-1764633599@quiltingwithlori.com
SUMMARY:Online "Snow Village" Sew-Along Part 5
DESCRIPTION:https://www.youtube.com/@quiltingwithlori
URL:https://quiltingwithlori.com/event/online-snow-village-sew-along-part-5/
END:VEVENT
BEGIN:VEVENT
DTSTART;VALUE=DATE:20251117
DTEND;VALUE=DATE:20251118
DTSTAMP:20260423T141356
CREATED:20251031T164750Z
LAST-MODIFIED:20251031T164750Z
UID:209623-1763337600-1763423999@quiltingwithlori.com
SUMMARY:Online "Snow Village" Sew-Along Part 4
DESCRIPTION:https://www.youtube.com/@quiltingwithlori
URL:https://quiltingwithlori.com/event/online-snow-village-sew-along-part-4/
END:VEVENT
BEGIN:VEVENT
DTSTART;VALUE=DATE:20251115
DTEND;VALUE=DATE:20251116
DTSTAMP:20260423T141356
CREATED:20251031T165054Z
LAST-MODIFIED:20251031T165054Z
UID:209627-1763164800-1763251199@quiltingwithlori.com
SUMMARY:Online BOM "Spring is in the Aire" Part 3
DESCRIPTION:https://www.youtube.com/@quiltingwithlori
URL:https://quiltingwithlori.com/event/online-bom-spring-is-in-the-aire-part-3/
END:VEVENT
BEGIN:VEVENT
DTSTART;VALUE=DATE:20251111
DTEND;VALUE=DATE:20251112
DTSTAMP:20260423T141356
CREATED:20250930T125335Z
LAST-MODIFIED:20250930T125335Z
UID:209531-1762819200-1762905599@quiltingwithlori.com
SUMMARY:Lecture: Quilt Circle - Online USA Guild
DESCRIPTION:
URL:https://quiltingwithlori.com/event/lecture-quilt-circle-online-usa-guild/
END:VEVENT
BEGIN:VEVENT
DTSTART;VALUE=DATE:20251103
DTEND;VALUE=DATE:20251104
DTSTAMP:20260423T141356
CREATED:20251031T164655Z
LAST-MODIFIED:20251031T164655Z
UID:209621-1762128000-1762214399@quiltingwithlori.com
SUMMARY:Online "Snow Village" Sew-Along Part 3
DESCRIPTION:https://www.youtube.com/@quiltingwithlori
URL:https://quiltingwithlori.com/event/online-snow-village-sew-along-part-3/
END:VEVENT
BEGIN:VEVENT
DTSTART;VALUE=DATE:20251029
DTEND;VALUE=DATE:20251030
DTSTAMP:20260423T141356
CREATED:20240430T144220Z
LAST-MODIFIED:20240430T144220Z
UID:209010-1761696000-1761782399@quiltingwithlori.com
SUMMARY:Workshop: Wild Rivers QG; Florence WI
DESCRIPTION:
URL:https://quiltingwithlori.com/event/workshop-wild-rivers-qg-florence-wi/
END:VEVENT
BEGIN:VEVENT
DTSTART;TZID=America/Chicago:20251028T173000
DTEND;TZID=America/Chicago:20251028T190000
DTSTAMP:20260423T141356
CREATED:20240430T144148Z
LAST-MODIFIED:20240430T144148Z
UID:209008-1761672600-1761678000@quiltingwithlori.com
SUMMARY:Lecture: Wild Rivers QG; Florence WI
DESCRIPTION:
URL:https://quiltingwithlori.com/event/lecture-wild-rivers-qg-florence-wi/
END:VEVENT
BEGIN:VEVENT
DTSTART;VALUE=DATE:20251027
DTEND;VALUE=DATE:20251101
DTSTAMP:20260423T141356
CREATED:20251031T164514Z
LAST-MODIFIED:20251031T164514Z
UID:209619-1761523200-1761955199@quiltingwithlori.com
SUMMARY:Virtual Quilted Paradise Summit
DESCRIPTION:
URL:https://quiltingwithlori.com/event/virtual-quilted-paradise-summit/
END:VEVENT
BEGIN:VEVENT
DTSTART;TZID=America/Chicago:20251004T090000
DTEND;TZID=America/Chicago:20251004T123000
DTSTAMP:20260423T141356
CREATED:20250214T171501Z
LAST-MODIFIED:20250214T171501Z
UID:209386-1759568400-1759581000@quiltingwithlori.com
SUMMARY:Lori; Workshop at Country Quilters of McHenry IL
DESCRIPTION:Lori/
URL:https://quiltingwithlori.com/event/lori-workshop-at-country-quilters-of-mchenry-il/
END:VEVENT
BEGIN:VEVENT
DTSTART;VALUE=DATE:20251004
DTEND;VALUE=DATE:20251006
DTSTAMP:20260423T141356
CREATED:20241113T133751Z
LAST-MODIFIED:20241113T133751Z
UID:209267-1759536000-1759708799@quiltingwithlori.com
SUMMARY:Lighthouse Legacies Quilt Show-  Racine\, WI (Festival Hall in downtown Racine)
DESCRIPTION:
URL:https://quiltingwithlori.com/event/lighthouse-legacies-quilt-show-racine-wi-festival-hall-in-downtown-racine/
END:VEVENT
BEGIN:VEVENT
DTSTART;VALUE=DATE:20251002
DTEND;VALUE=DATE:20251003
DTSTAMP:20260423T141356
CREATED:20250214T171403Z
LAST-MODIFIED:20250214T171403Z
UID:209384-1759363200-1759449599@quiltingwithlori.com
SUMMARY:Lori; Lecture @ Country Quilters of McHenry IL
DESCRIPTION:
URL:https://quiltingwithlori.com/event/lori-lecture-country-quilters-of-mchenry-il/
END:VEVENT
BEGIN:VEVENT
DTSTART;VALUE=DATE:20250916
DTEND;VALUE=DATE:20250918
DTSTAMP:20260423T141356
CREATED:20250723T225359Z
LAST-MODIFIED:20250723T225359Z
UID:209507-1757980800-1758153599@quiltingwithlori.com
SUMMARY:Quilted Summit (Virtual 2-day Summit)
DESCRIPTION:
URL:https://quiltingwithlori.com/event/quilted-summit-virtual-2-day-summit/
END:VEVENT
BEGIN:VEVENT
DTSTART;VALUE=DATE:20250904
DTEND;VALUE=DATE:20250907
DTSTAMP:20260423T141356
CREATED:20241113T134817Z
LAST-MODIFIED:20241113T134817Z
UID:209270-1756944000-1757203199@quiltingwithlori.com
SUMMARY:Great WI Quilt Show; Sept 4-6\, 2025
DESCRIPTION:
URL:https://quiltingwithlori.com/event/great-wi-quilt-show-sept-4-6-2025/
END:VEVENT
BEGIN:VEVENT
DTSTART;VALUE=DATE:20250820
DTEND;VALUE=DATE:20250821
DTSTAMP:20260423T141356
CREATED:20250723T225254Z
LAST-MODIFIED:20250723T225254Z
UID:209505-1755648000-1755734399@quiltingwithlori.com
SUMMARY:Lecture @ Alamance Piecemakers QG; Burlington NC
DESCRIPTION:
URL:https://quiltingwithlori.com/event/lecture-alamance-piecemakers-qg-burlington-nc/
END:VEVENT
BEGIN:VEVENT
DTSTART;VALUE=DATE:20250802
DTEND;VALUE=DATE:20250810
DTSTAMP:20260423T141356
CREATED:20241113T135152Z
LAST-MODIFIED:20241113T135152Z
UID:209272-1754092800-1754783999@quiltingwithlori.com
SUMMARY:Hackensack MN (All Week)
DESCRIPTION:
URL:https://quiltingwithlori.com/event/hackensack-mn-all-week/
END:VEVENT
BEGIN:VEVENT
DTSTART;VALUE=DATE:20250617
DTEND;VALUE=DATE:20250618
DTSTAMP:20260423T141356
CREATED:20240430T143554Z
LAST-MODIFIED:20240430T143554Z
UID:209004-1750118400-1750204799@quiltingwithlori.com
SUMMARY:Lecture: Scrappers QG; Wiliams Bay WI
DESCRIPTION:
URL:https://quiltingwithlori.com/event/lecture-scrappers-qg-wiliams-bay-wi/
END:VEVENT
BEGIN:VEVENT
DTSTART;VALUE=DATE:20250420
DTEND;VALUE=DATE:20250427
DTSTAMP:20260423T141356
CREATED:20241113T133615Z
LAST-MODIFIED:20241113T134655Z
UID:209265-1745107200-1745711999@quiltingwithlori.com
SUMMARY:AQS - Paducah - Setup\, Teaching\, Take-down (Mon- Sat)
DESCRIPTION:
URL:https://quiltingwithlori.com/event/aqs-paducah-setup-teaching/
END:VEVENT
BEGIN:VEVENT
DTSTART;VALUE=DATE:20250306
DTEND;VALUE=DATE:20250307
DTSTAMP:20260423T141356
CREATED:20250214T170906Z
LAST-MODIFIED:20250214T170906Z
UID:209381-1741219200-1741305599@quiltingwithlori.com
SUMMARY:Lori @ Mt. Hood Quilt Guild; Gresham\, Oregon
DESCRIPTION:
URL:https://quiltingwithlori.com/event/lori-mt-hood-quilt-guild-gresham-oregon/
END:VEVENT
BEGIN:VEVENT
DTSTART;TZID=America/Chicago:20250303T180000
DTEND;TZID=America/Chicago:20250303T200000
DTSTAMP:20260423T141356
CREATED:20240430T143646Z
LAST-MODIFIED:20240430T143646Z
UID:209006-1741024800-1741032000@quiltingwithlori.com
SUMMARY:Lecture: Chattahoochee Evening Stars QG; Cumming GA
DESCRIPTION:
URL:https://quiltingwithlori.com/event/lecture-chattahoochee-evening-stars-qg-cumming-ga/
END:VEVENT
BEGIN:VEVENT
DTSTART;VALUE=DATE:20250204
DTEND;VALUE=DATE:20250206
DTSTAMP:20260423T141356
CREATED:20241120T222210Z
LAST-MODIFIED:20241120T222210Z
UID:209310-1738627200-1738799999@quiltingwithlori.com
SUMMARY:Quilted Summit! Virtual Classes
DESCRIPTION:
URL:https://quiltingwithlori.com/event/quilted-summit-virtual-classes/
END:VEVENT
BEGIN:VEVENT
DTSTART;TZID=America/Chicago:20250118T093000
DTEND;TZID=America/Chicago:20250118T163000
DTSTAMP:20260423T141356
CREATED:20240430T141301Z
LAST-MODIFIED:20240430T141301Z
UID:208996-1737192600-1737217800@quiltingwithlori.com
SUMMARY:Workshop: Starlight (Northwest Suburban Quilt Guild\, Arlington Hts\, IL)
DESCRIPTION:
URL:https://quiltingwithlori.com/event/workshop-starlight-northwest-suburban-quilt-guild-arlington-hts-il/
END:VEVENT
BEGIN:VEVENT
DTSTART;TZID=America/Chicago:20250117T080000
DTEND;TZID=America/Chicago:20250117T140000
DTSTAMP:20260423T141356
CREATED:20240430T141550Z
LAST-MODIFIED:20240430T141550Z
UID:209000-1737100800-1737122400@quiltingwithlori.com
SUMMARY:Workshop: Starlight - Palmetto QG\, Hilton Head SC
DESCRIPTION:
URL:https://quiltingwithlori.com/event/workshop-starlight-palmetto-qg-hilton-head-sc/
END:VEVENT
BEGIN:VEVENT
DTSTART;TZID=America/Chicago:20250116T190000
DTEND;TZID=America/Chicago:20250116T210000
DTSTAMP:20260423T141356
CREATED:20230531T135900Z
LAST-MODIFIED:20240430T141328Z
UID:208594-1737054000-1737061200@quiltingwithlori.com
SUMMARY:Lecture @ Northwest Suburban Quilters Guild; Arlington Hts. IL
DESCRIPTION:
URL:https://quiltingwithlori.com/event/lecture-northwest-suburban-quilters-guild-arlington-hts-il/
END:VEVENT
END:VCALENDAR