BEGIN:VCALENDAR
VERSION:2.0
PRODID:-//QuiltingWithLori - ECPv6.15.11//NONSGML v1.0//EN
CALSCALE:GREGORIAN
METHOD:PUBLISH
X-ORIGINAL-URL:https://quiltingwithlori.com
X-WR-CALDESC:Events for QuiltingWithLori
REFRESH-INTERVAL;VALUE=DURATION:PT1H
X-Robots-Tag:noindex
X-PUBLISHED-TTL:PT1H
BEGIN:VTIMEZONE
TZID:America/Chicago
BEGIN:DAYLIGHT
TZOFFSETFROM:-0600
TZOFFSETTO:-0500
TZNAME:CDT
DTSTART:20250309T080000
END:DAYLIGHT
BEGIN:STANDARD
TZOFFSETFROM:-0500
TZOFFSETTO:-0600
TZNAME:CST
DTSTART:20251102T070000
END:STANDARD
BEGIN:DAYLIGHT
TZOFFSETFROM:-0600
TZOFFSETTO:-0500
TZNAME:CDT
DTSTART:20260308T080000
END:DAYLIGHT
BEGIN:STANDARD
TZOFFSETFROM:-0500
TZOFFSETTO:-0600
TZNAME:CST
DTSTART:20261101T070000
END:STANDARD
BEGIN:DAYLIGHT
TZOFFSETFROM:-0600
TZOFFSETTO:-0500
TZNAME:CDT
DTSTART:20270314T080000
END:DAYLIGHT
BEGIN:STANDARD
TZOFFSETFROM:-0500
TZOFFSETTO:-0600
TZNAME:CST
DTSTART:20271107T070000
END:STANDARD
BEGIN:DAYLIGHT
TZOFFSETFROM:-0600
TZOFFSETTO:-0500
TZNAME:CDT
DTSTART:20280312T080000
END:DAYLIGHT
BEGIN:STANDARD
TZOFFSETFROM:-0500
TZOFFSETTO:-0600
TZNAME:CST
DTSTART:20281105T070000
END:STANDARD
END:VTIMEZONE
BEGIN:VEVENT
DTSTART;VALUE=DATE:20260419
DTEND;VALUE=DATE:20260427
DTSTAMP:20260423T122658
CREATED:20250214T171801Z
LAST-MODIFIED:20260106T002056Z
UID:209390-1776556800-1777247999@quiltingwithlori.com
SUMMARY:Lori @ AQS National Quilt Show- Paducah\, KY
DESCRIPTION:Lori
URL:https://quiltingwithlori.com/event/lori-aqs-paducah-ky/
END:VEVENT
BEGIN:VEVENT
DTSTART;VALUE=DATE:20260502
DTEND;VALUE=DATE:20260509
DTSTAMP:20260423T122658
CREATED:20250313T152254Z
LAST-MODIFIED:20250313T152254Z
UID:209413-1777680000-1778284799@quiltingwithlori.com
SUMMARY:Lori @ Stitchin' Heaven Sewcation - Charleston SC
DESCRIPTION:
URL:https://quiltingwithlori.com/event/lori-stitchin-heaven-sewcation-charleston-sc/
END:VEVENT
BEGIN:VEVENT
DTSTART;VALUE=DATE:20260520
DTEND;VALUE=DATE:20260521
DTSTAMP:20260423T122658
CREATED:20260315T121856Z
LAST-MODIFIED:20260315T121856Z
UID:209785-1779235200-1779321599@quiltingwithlori.com
SUMMARY:Lori @ Waterloo Cnty Quilters Guild\, Ontario Canada
DESCRIPTION:
URL:https://quiltingwithlori.com/event/lori-waterloo-cnty-quilters-guild-ontario-canada/
END:VEVENT
BEGIN:VEVENT
DTSTART;VALUE=DATE:20260620
DTEND;VALUE=DATE:20260621
DTSTAMP:20260423T122658
CREATED:20260311T203422Z
LAST-MODIFIED:20260311T203422Z
UID:209783-1781913600-1781999999@quiltingwithlori.com
SUMMARY:Lori @ Quiltessence Quilters Guild - PA
DESCRIPTION:
URL:https://quiltingwithlori.com/event/lori-quiltessence-quilters-guild-pa/
END:VEVENT
BEGIN:VEVENT
DTSTART;VALUE=DATE:20260721
DTEND;VALUE=DATE:20260722
DTSTAMP:20260423T122658
CREATED:20260315T122008Z
LAST-MODIFIED:20260315T122008Z
UID:209787-1784592000-1784678399@quiltingwithlori.com
SUMMARY:Lori @ Scrap Basket QG of Brownsburg IN
DESCRIPTION:
URL:https://quiltingwithlori.com/event/lori-scrap-basket-qg-of-brownsburg-in/
END:VEVENT
BEGIN:VEVENT
DTSTART;VALUE=DATE:20260914
DTEND;VALUE=DATE:20260916
DTSTAMP:20260423T122658
CREATED:20250214T171646Z
LAST-MODIFIED:20250214T171646Z
UID:209388-1789344000-1789516799@quiltingwithlori.com
SUMMARY:Lori @ Lincoln Quilt Guild\, Lincoln NE
DESCRIPTION:
URL:https://quiltingwithlori.com/event/lori-lincoln-quilt-guild-lincoln-ne/
END:VEVENT
BEGIN:VEVENT
DTSTART;VALUE=DATE:20261008
DTEND;VALUE=DATE:20261009
DTSTAMP:20260423T122658
CREATED:20260316T215051Z
LAST-MODIFIED:20260316T215051Z
UID:209797-1791417600-1791503999@quiltingwithlori.com
SUMMARY:Lori @ Quilters Guild of East Texas (Tyler) Lecture
DESCRIPTION:
URL:https://quiltingwithlori.com/event/lori-quilters-guild-of-east-texas-tyler-lecture/
END:VEVENT
BEGIN:VEVENT
DTSTART;VALUE=DATE:20261009
DTEND;VALUE=DATE:20261010
DTSTAMP:20260423T122658
CREATED:20260316T215125Z
LAST-MODIFIED:20260316T215125Z
UID:209799-1791504000-1791590399@quiltingwithlori.com
SUMMARY:Lori @ Quilters Guild of East Texas (Tyler) Workshop
DESCRIPTION:
URL:https://quiltingwithlori.com/event/lori-quilters-guild-of-east-texas-tyler-workshop/
END:VEVENT
BEGIN:VEVENT
DTSTART;VALUE=DATE:20270101
DTEND;VALUE=DATE:20270112
DTSTAMP:20260423T122658
CREATED:20260315T122845Z
LAST-MODIFIED:20260315T122845Z
UID:209790-1798761600-1799711999@quiltingwithlori.com
SUMMARY:Lori @ Eastern Caribbean cruise
DESCRIPTION:
URL:https://quiltingwithlori.com/event/lori-eastern-caribbean-cruise/
END:VEVENT
BEGIN:VEVENT
DTSTART;VALUE=DATE:20270204
DTEND;VALUE=DATE:20270205
DTSTAMP:20260423T122658
CREATED:20260225T201945Z
LAST-MODIFIED:20260225T201945Z
UID:209752-1801699200-1801785599@quiltingwithlori.com
SUMMARY:Zoom Lecture w/Gate City QG; Greensboro NC
DESCRIPTION:
URL:https://quiltingwithlori.com/event/zoom-lecture-w-gate-city-qg-greensboro-nc/
END:VEVENT
BEGIN:VEVENT
DTSTART;VALUE=DATE:20270311
DTEND;VALUE=DATE:20270312
DTSTAMP:20260423T122658
CREATED:20260311T191016Z
LAST-MODIFIED:20260311T191016Z
UID:209780-1804723200-1804809599@quiltingwithlori.com
SUMMARY:Lori @ Quilters' Guild of Indianapolis
DESCRIPTION:
URL:https://quiltingwithlori.com/event/lori-quilters-guild-of-indianapolis/
END:VEVENT
BEGIN:VEVENT
DTSTART;VALUE=DATE:20270516
DTEND;VALUE=DATE:20270523
DTSTAMP:20260423T122658
CREATED:20250814T161043Z
LAST-MODIFIED:20250814T161043Z
UID:209521-1810425600-1811030399@quiltingwithlori.com
SUMMARY:Lori teaching on Quilt Cruise/ Puerto Costo Maya Mex\, Roatan Honduras\, Cozemel Mex
DESCRIPTION:
URL:https://quiltingwithlori.com/event/lori-teaching-on-quilt-cruise-puerto-costo-maya-mex-roatan-honduras-cozemel-mex/
END:VEVENT
BEGIN:VEVENT
DTSTART;VALUE=DATE:20270817
DTEND;VALUE=DATE:20270822
DTSTAMP:20260423T122658
CREATED:20260416T131719Z
LAST-MODIFIED:20260416T131719Z
UID:209821-1818460800-1818892799@quiltingwithlori.com
SUMMARY:Lori @ AQS - Grand Rapids MI
DESCRIPTION:
URL:https://quiltingwithlori.com/event/lori-aqs-grand-rapids-mi/
END:VEVENT
BEGIN:VEVENT
DTSTART;VALUE=DATE:20270909
DTEND;VALUE=DATE:20270912
DTSTAMP:20260423T122658
CREATED:20260416T131358Z
LAST-MODIFIED:20260416T131358Z
UID:209819-1820448000-1820707199@quiltingwithlori.com
SUMMARY:Lori @ Great WI Quilt Show
DESCRIPTION:
URL:https://quiltingwithlori.com/event/lori-great-wi-quilt-show/
END:VEVENT
END:VCALENDAR