BEGIN:VCALENDAR
VERSION:2.0
PRODID:-//QuiltingWithLori - ECPv6.15.11//NONSGML v1.0//EN
CALSCALE:GREGORIAN
METHOD:PUBLISH
X-WR-CALNAME:QuiltingWithLori
X-ORIGINAL-URL:https://quiltingwithlori.com
X-WR-CALDESC:Events for QuiltingWithLori
REFRESH-INTERVAL;VALUE=DURATION:PT1H
X-Robots-Tag:noindex
X-PUBLISHED-TTL:PT1H
BEGIN:VTIMEZONE
TZID:America/Chicago
BEGIN:DAYLIGHT
TZOFFSETFROM:-0600
TZOFFSETTO:-0500
TZNAME:CDT
DTSTART:20220313T080000
END:DAYLIGHT
BEGIN:STANDARD
TZOFFSETFROM:-0500
TZOFFSETTO:-0600
TZNAME:CST
DTSTART:20221106T070000
END:STANDARD
BEGIN:DAYLIGHT
TZOFFSETFROM:-0600
TZOFFSETTO:-0500
TZNAME:CDT
DTSTART:20230312T080000
END:DAYLIGHT
BEGIN:STANDARD
TZOFFSETFROM:-0500
TZOFFSETTO:-0600
TZNAME:CST
DTSTART:20231105T070000
END:STANDARD
BEGIN:DAYLIGHT
TZOFFSETFROM:-0600
TZOFFSETTO:-0500
TZNAME:CDT
DTSTART:20240310T080000
END:DAYLIGHT
BEGIN:STANDARD
TZOFFSETFROM:-0500
TZOFFSETTO:-0600
TZNAME:CST
DTSTART:20241103T070000
END:STANDARD
BEGIN:DAYLIGHT
TZOFFSETFROM:-0600
TZOFFSETTO:-0500
TZNAME:CDT
DTSTART:20250309T080000
END:DAYLIGHT
BEGIN:STANDARD
TZOFFSETFROM:-0500
TZOFFSETTO:-0600
TZNAME:CST
DTSTART:20251102T070000
END:STANDARD
END:VTIMEZONE
BEGIN:VTIMEZONE
TZID:UTC
BEGIN:STANDARD
TZOFFSETFROM:+0000
TZOFFSETTO:+0000
TZNAME:UTC
DTSTART:20220101T000000
END:STANDARD
END:VTIMEZONE
BEGIN:VEVENT
DTSTART;VALUE=DATE:20240718
DTEND;VALUE=DATE:20240719
DTSTAMP:20260423T211344
CREATED:20240430T141001Z
LAST-MODIFIED:20240430T141001Z
UID:208994-1721260800-1721347199@quiltingwithlori.com
SUMMARY:Lecture: Oconomowoc Quilters Guild\, WI
DESCRIPTION:
URL:https://quiltingwithlori.com/event/lecture-oconomowoc-quilters-guild-wi/
END:VEVENT
BEGIN:VEVENT
DTSTART;VALUE=DATE:20240617
DTEND;VALUE=DATE:20240618
DTSTAMP:20260423T211344
CREATED:20230818T135410Z
LAST-MODIFIED:20230818T135410Z
UID:208709-1718582400-1718668799@quiltingwithlori.com
SUMMARY:Lecture and Workshop; Country Crossroads QG\, Forreston IL
DESCRIPTION:
URL:https://quiltingwithlori.com/event/lecture-and-workshop-country-crossroads-qg-forreston-il/
END:VEVENT
BEGIN:VEVENT
DTSTART;VALUE=DATE:20240421
DTEND;VALUE=DATE:20240429
DTSTAMP:20260423T211344
CREATED:20240116T192014Z
LAST-MODIFIED:20240116T192014Z
UID:208889-1713657600-1714348799@quiltingwithlori.com
SUMMARY:AQS Quilt Show Paducah KY
DESCRIPTION:
URL:https://quiltingwithlori.com/event/aqs-quilt-show-paducah-ky/
END:VEVENT
BEGIN:VEVENT
DTSTART;VALUE=DATE:20240326
DTEND;VALUE=DATE:20240327
DTSTAMP:20260423T211344
CREATED:20231209T135410Z
LAST-MODIFIED:20231209T135410Z
UID:208833-1711411200-1711497599@quiltingwithlori.com
SUMMARY:Lecture at Textile Arts Guild; Richmond BC\, Canada
DESCRIPTION:
URL:https://quiltingwithlori.com/event/lecture-at-textile-arts-guild-richmond-bc-canada/
END:VEVENT
BEGIN:VEVENT
DTSTART;VALUE=DATE:20240312
DTEND;VALUE=DATE:20240313
DTSTAMP:20260423T211344
CREATED:20220802T140520Z
LAST-MODIFIED:20230531T182556Z
UID:207975-1710201600-1710287999@quiltingwithlori.com
SUMMARY:Lecture:  Gazebo Quilt Guild\, Huntley\, IL
DESCRIPTION:
URL:https://quiltingwithlori.com/event/lecture-gazebo-quilt-guild-huntley-il/
END:VEVENT
BEGIN:VEVENT
DTSTART;VALUE=DATE:20240221
DTEND;VALUE=DATE:20240222
DTSTAMP:20260423T211344
CREATED:20230620T030041Z
LAST-MODIFIED:20230620T030041Z
UID:208620-1708473600-1708559999@quiltingwithlori.com
SUMMARY:Virtual Lecture & Workshop: Common Threads Quilt Guild\, New Palestine IN
DESCRIPTION:
URL:https://quiltingwithlori.com/event/virtual-lecture-workshop-common-threads-quilt-guild-new-palestine-in/
END:VEVENT
BEGIN:VEVENT
DTSTART;VALUE=DATE:20240210
DTEND;VALUE=DATE:20240211
DTSTAMP:20260423T211344
CREATED:20220825T143903Z
LAST-MODIFIED:20230620T030130Z
UID:208005-1707523200-1707609599@quiltingwithlori.com
SUMMARY:Virtual Workshop: Great Lakes Heritage Quilt Guild; Detroit MI
DESCRIPTION:
URL:https://quiltingwithlori.com/event/workshop-great-lakes-heritage-quilt-guild-detroit-mi/
END:VEVENT
BEGIN:VEVENT
DTSTART;VALUE=DATE:20240208
DTEND;VALUE=DATE:20240209
DTSTAMP:20260423T211344
CREATED:20220825T143828Z
LAST-MODIFIED:20230620T030201Z
UID:208003-1707350400-1707436799@quiltingwithlori.com
SUMMARY:Virtual Lecture:  Great Lakes Heritage Quilt Guild; Detroit MI
DESCRIPTION:
URL:https://quiltingwithlori.com/event/lecture-great-lakes-heritage-quilt-guild-detroit-mi/
END:VEVENT
BEGIN:VEVENT
DTSTART;VALUE=DATE:20240106
DTEND;VALUE=DATE:20240107
DTSTAMP:20260423T211344
CREATED:20240102T212303Z
LAST-MODIFIED:20240102T212303Z
UID:208858-1704499200-1704585599@quiltingwithlori.com
SUMMARY:Workshop @ SQG; Rockford IL
DESCRIPTION:
URL:https://quiltingwithlori.com/event/workshop-sqg-rockford-il-2/
END:VEVENT
BEGIN:VEVENT
DTSTART;VALUE=DATE:20240104
DTEND;VALUE=DATE:20240105
DTSTAMP:20260423T211344
CREATED:20240102T212240Z
LAST-MODIFIED:20240102T212240Z
UID:208856-1704326400-1704412799@quiltingwithlori.com
SUMMARY:Lectures @ SQG; Rockford IL
DESCRIPTION:
URL:https://quiltingwithlori.com/event/lectures-sqg-rockford-il/
END:VEVENT
BEGIN:VEVENT
DTSTART;VALUE=DATE:20240104
DTEND;VALUE=DATE:20240105
DTSTAMP:20260423T211344
CREATED:20240102T212202Z
LAST-MODIFIED:20240102T212202Z
UID:208854-1704326400-1704412799@quiltingwithlori.com
SUMMARY:Workshop @ SQG; Rockford IL
DESCRIPTION:
URL:https://quiltingwithlori.com/event/workshop-sqg-rockford-il/
END:VEVENT
BEGIN:VEVENT
DTSTART;VALUE=DATE:20231010
DTEND;VALUE=DATE:20231011
DTSTAMP:20260423T211344
CREATED:20231010T163517Z
LAST-MODIFIED:20231010T163517Z
UID:208775-1696896000-1696982399@quiltingwithlori.com
SUMMARY:Lecture; Capital Quilters Guild\, Concord NH
DESCRIPTION:
URL:https://quiltingwithlori.com/event/lecture-capital-quilters-guild-concord-nh/
END:VEVENT
BEGIN:VEVENT
DTSTART;VALUE=DATE:20230909
DTEND;VALUE=DATE:20230910
DTSTAMP:20260423T211344
CREATED:20230108T130958Z
LAST-MODIFIED:20230108T130958Z
UID:208349-1694217600-1694303999@quiltingwithlori.com
SUMMARY:Great Wisconsin Quilt Show; Sept 9\, 2023
DESCRIPTION:
URL:https://quiltingwithlori.com/event/great-wisconsin-quilt-show-sept-9-2023/
END:VEVENT
BEGIN:VEVENT
DTSTART;VALUE=DATE:20230908
DTEND;VALUE=DATE:20230909
DTSTAMP:20260423T211344
CREATED:20230108T130906Z
LAST-MODIFIED:20230108T130906Z
UID:208347-1694131200-1694217599@quiltingwithlori.com
SUMMARY:Great Wisconsin Quilt Show; Sept 8\, 2023
DESCRIPTION:
URL:https://quiltingwithlori.com/event/great-wisconsin-quilt-show-sept-8-2023/
END:VEVENT
BEGIN:VEVENT
DTSTART;VALUE=DATE:20230907
DTEND;VALUE=DATE:20230908
DTSTAMP:20260423T211344
CREATED:20230108T130528Z
LAST-MODIFIED:20230108T130648Z
UID:208342-1694044800-1694131199@quiltingwithlori.com
SUMMARY:Great Wisconsin Quilt Show; Sept 7\, 2023
DESCRIPTION:
URL:https://quiltingwithlori.com/event/great-wisconsin-quilt-show-sept-6-2023/
END:VEVENT
BEGIN:VEVENT
DTSTART;VALUE=DATE:20230906
DTEND;VALUE=DATE:20230907
DTSTAMP:20260423T211344
CREATED:20230108T130824Z
LAST-MODIFIED:20230108T130824Z
UID:208345-1693958400-1694044799@quiltingwithlori.com
SUMMARY:Great Wisconsin Quilt Show; Sept 6\, 2023
DESCRIPTION:
URL:https://quiltingwithlori.com/event/great-wisconsin-quilt-show-sept-6-2023-2/
END:VEVENT
BEGIN:VEVENT
DTSTART;VALUE=DATE:20230731
DTEND;VALUE=DATE:20230801
DTSTAMP:20260423T211344
CREATED:20230107T194955Z
LAST-MODIFIED:20230107T194955Z
UID:208340-1690761600-1690847999@quiltingwithlori.com
SUMMARY:Lecture:  Lighthouse Quilt Guild\, Racine WI
DESCRIPTION:
URL:https://quiltingwithlori.com/event/lecture-lighthouse-quilt-guild-racine-wi/
END:VEVENT
BEGIN:VEVENT
DTSTART;VALUE=DATE:20230613
DTEND;VALUE=DATE:20230614
DTSTAMP:20260423T211344
CREATED:20220521T165651Z
LAST-MODIFIED:20220521T165651Z
UID:207884-1686614400-1686700799@quiltingwithlori.com
SUMMARY:Workshop: Mudsock Quilt Guild; Fishers IN
DESCRIPTION:
URL:https://quiltingwithlori.com/event/workshop-mudsock-quilt-guild-fishers-in/
END:VEVENT
BEGIN:VEVENT
DTSTART;VALUE=DATE:20230612
DTEND;VALUE=DATE:20230613
DTSTAMP:20260423T211344
CREATED:20220521T165615Z
LAST-MODIFIED:20220521T165615Z
UID:207882-1686528000-1686614399@quiltingwithlori.com
SUMMARY:Lecture: Mudsock Quilt Guild; Fishers IN
DESCRIPTION:
URL:https://quiltingwithlori.com/event/lecture-mudsock-quilt-guild-fishers-in/
END:VEVENT
BEGIN:VEVENT
DTSTART;VALUE=DATE:20230610
DTEND;VALUE=DATE:20230611
DTSTAMP:20260423T211344
CREATED:20230111T150115Z
LAST-MODIFIED:20230111T150115Z
UID:208359-1686355200-1686441599@quiltingwithlori.com
SUMMARY:Lecture @ Napa Valley Quilt Guild; Napa Valley\, CA
DESCRIPTION:
URL:https://quiltingwithlori.com/event/lecture-napa-valley-quilt-guild-napa-valley-ca/
END:VEVENT
BEGIN:VEVENT
DTSTART;VALUE=DATE:20230608
DTEND;VALUE=DATE:20230609
DTSTAMP:20260423T211344
CREATED:20230608T132654Z
LAST-MODIFIED:20230608T132654Z
UID:208610-1686182400-1686268799@quiltingwithlori.com
SUMMARY:Lecture @ Common Threads of Central Indiana (Zoom)
DESCRIPTION:
URL:https://quiltingwithlori.com/event/lecture-common-threads-of-central-indiana-zoom/
END:VEVENT
BEGIN:VEVENT
DTSTART;VALUE=DATE:20230501
DTEND;VALUE=DATE:20230502
DTSTAMP:20260423T211344
CREATED:20230118T201025Z
LAST-MODIFIED:20230118T201025Z
UID:208375-1682899200-1682985599@quiltingwithlori.com
SUMMARY:Lecture:  Petunia Quilters Guild\, Dixon IL
DESCRIPTION:
URL:https://quiltingwithlori.com/event/lecture-petunia-quilters-guild-dixon-il/
END:VEVENT
BEGIN:VEVENT
DTSTART;TZID=America/Chicago:20230417T190000
DTEND;TZID=America/Chicago:20230417T200000
DTSTAMP:20260423T211344
CREATED:20230103T190401Z
LAST-MODIFIED:20230103T190458Z
UID:208328-1681758000-1681761600@quiltingwithlori.com
SUMMARY:April 17\, 7PM (CST) Free Zoom Spring 2023 Mystery Quilt Class
DESCRIPTION:
URL:https://quiltingwithlori.com/event/april-17-free-zoom-spring-2023-mystery-quilt-class/
END:VEVENT
BEGIN:VEVENT
DTSTART;TZID=America/Chicago:20230413T100000
DTEND;TZID=America/Chicago:20230413T120000
DTSTAMP:20260423T211344
CREATED:20230330T142902Z
LAST-MODIFIED:20230330T142902Z
UID:208486-1681380000-1681387200@quiltingwithlori.com
SUMMARY:Lecture at Log Cabin Quilt Guild\, Minooka IL
DESCRIPTION:
URL:https://quiltingwithlori.com/event/lecture-at-log-cabin-quilt-guild-minooka-il/
END:VEVENT
BEGIN:VEVENT
DTSTART;TZID=America/Chicago:20230410T190000
DTEND;TZID=America/Chicago:20230410T200000
DTSTAMP:20260423T211344
CREATED:20230103T190326Z
LAST-MODIFIED:20230103T190520Z
UID:208326-1681153200-1681156800@quiltingwithlori.com
SUMMARY:April 10\, (7PM CST) Free Spring 2023 Mystery Quilt Class
DESCRIPTION:
URL:https://quiltingwithlori.com/event/april-10-free-spring-2023-mystery-quilt-class/
END:VEVENT
BEGIN:VEVENT
DTSTART;TZID=America/Chicago:20230403T190000
DTEND;TZID=America/Chicago:20230403T190000
DTSTAMP:20260423T211344
CREATED:20230102T191238Z
LAST-MODIFIED:20230102T191238Z
UID:208308-1680548400-1680548400@quiltingwithlori.com
SUMMARY:April 3; 7PM CST - Monday Night Mystery Quilt Zoom Class
DESCRIPTION:
URL:https://quiltingwithlori.com/event/april-3-7pm-cst-monday-night-mystery-quilt-zoom-class/
END:VEVENT
BEGIN:VEVENT
DTSTART;VALUE=DATE:20230329
DTEND;VALUE=DATE:20230330
DTSTAMP:20260423T211344
CREATED:20220113T095547Z
LAST-MODIFIED:20220518T175422Z
UID:207577-1680048000-1680134399@quiltingwithlori.com
SUMMARY:Workshop: Sunny Dresden's; Prairie Star QG; St. Charles IL
DESCRIPTION:
URL:https://quiltingwithlori.com/event/workshop-sunny-dresdens-prairie-star-qg-st-charles-il/
END:VEVENT
BEGIN:VEVENT
DTSTART;VALUE=DATE:20230328
DTEND;VALUE=DATE:20230329
DTSTAMP:20260423T211344
CREATED:20220113T095445Z
LAST-MODIFIED:20220518T175737Z
UID:207575-1679961600-1680047999@quiltingwithlori.com
SUMMARY:Lecture: My Fav 3-D's; Prairie Star QG; St. Charles IL
DESCRIPTION:
URL:https://quiltingwithlori.com/event/lecture-my-fav-3-ds-prairie-star-qg-st-charles-il/
END:VEVENT
BEGIN:VEVENT
DTSTART;VALUE=DATE:20230327
DTEND;VALUE=DATE:20230328
DTSTAMP:20260423T211344
CREATED:20220113T095334Z
LAST-MODIFIED:20220518T175545Z
UID:207573-1679875200-1679961599@quiltingwithlori.com
SUMMARY:Lecture: Speedy Solutions Scraps; Prairie Star QG; St. Charles IL
DESCRIPTION:
URL:https://quiltingwithlori.com/event/lecture-speedy-solutions-scraps-prairie-star-qg-st-charles-il/
END:VEVENT
BEGIN:VEVENT
DTSTART;VALUE=DATE:20230304
DTEND;VALUE=DATE:20230305
DTSTAMP:20260423T211344
CREATED:20220725T035557Z
LAST-MODIFIED:20220725T035557Z
UID:207951-1677888000-1677974399@quiltingwithlori.com
SUMMARY:Workshop: Gulf States Quilt Assn Seminar/ Baton Rouge LA
DESCRIPTION:
URL:https://quiltingwithlori.com/event/workshop-gulf-states-quilt-assn-seminar-baton-rouge-la-3/
END:VEVENT
END:VCALENDAR