BEGIN:VCALENDAR
VERSION:2.0
PRODID:-//QuiltingWithLori - ECPv6.15.11//NONSGML v1.0//EN
CALSCALE:GREGORIAN
METHOD:PUBLISH
X-WR-CALNAME:QuiltingWithLori
X-ORIGINAL-URL:https://quiltingwithlori.com
X-WR-CALDESC:Events for QuiltingWithLori
REFRESH-INTERVAL;VALUE=DURATION:PT1H
X-Robots-Tag:noindex
X-PUBLISHED-TTL:PT1H
BEGIN:VTIMEZONE
TZID:UTC
BEGIN:STANDARD
TZOFFSETFROM:+0000
TZOFFSETTO:+0000
TZNAME:UTC
DTSTART:20200101T000000
END:STANDARD
END:VTIMEZONE
BEGIN:VEVENT
DTSTART;TZID=UTC:20220510T183000
DTEND;TZID=UTC:20220510T210000
DTSTAMP:20260424T034308
CREATED:20220215T210152Z
LAST-MODIFIED:20220215T210153Z
UID:207639-1652207400-1652216400@quiltingwithlori.com
SUMMARY:Lecture: Speedy Solutions/Scrap Stash; Log Cabin Quilt Guild/ New Berlin WI
DESCRIPTION:
URL:https://quiltingwithlori.com/event/lecture-speedy-solutions-scrap-stash-log-cabin-quilt-guild-new-berlin-wi/
LOCATION:Log Cabin QG/ New Berlin WI
END:VEVENT
BEGIN:VEVENT
DTSTART;TZID=UTC:20220430T080000
DTEND;TZID=UTC:20220501T170000
DTSTAMP:20260424T034308
CREATED:20220209T190606Z
LAST-MODIFIED:20220209T190606Z
UID:207606-1651305600-1651424400@quiltingwithlori.com
SUMMARY:Sinnissippi Quilt Show
DESCRIPTION:
URL:https://quiltingwithlori.com/event/sinnissippi-quilt-show/
END:VEVENT
BEGIN:VEVENT
DTSTART;VALUE=DATE:20220429
DTEND;VALUE=DATE:20220501
DTSTAMP:20260424T034308
CREATED:20220321T163510Z
LAST-MODIFIED:20220321T163510Z
UID:207778-1651190400-1651363199@quiltingwithlori.com
SUMMARY:Country Crossroads Quilt Show - Oregon IL
DESCRIPTION:
URL:https://quiltingwithlori.com/event/country-crossroads-quilt-show-oregon-il/
END:VEVENT
BEGIN:VEVENT
DTSTART;TZID=UTC:20220427T100000
DTEND;TZID=UTC:20220427T120000
DTSTAMP:20260424T034308
CREATED:20220113T094144Z
LAST-MODIFIED:20220206T023201Z
UID:207559-1651053600-1651060800@quiltingwithlori.com
SUMMARY:Lecture: My Fav 3-D's; Common Threads; Menomonee Falls WI
DESCRIPTION:
URL:https://quiltingwithlori.com/event/lecture-my-fav-3-ds-common-threads-menomonee-falls-wi/
END:VEVENT
BEGIN:VEVENT
DTSTART;TZID=UTC:20220421T100000
DTEND;TZID=UTC:20220421T120000
DTSTAMP:20260424T034308
CREATED:20220113T094532Z
LAST-MODIFIED:20220113T094532Z
UID:207565-1650535200-1650542400@quiltingwithlori.com
SUMMARY:Lecture: Speedy Solutions Scraps/Scrapbag QG; Durand IL
DESCRIPTION:
URL:https://quiltingwithlori.com/event/lecture-speedy-solutions-scraps-scrapbag-qg-durand-il-2/
END:VEVENT
BEGIN:VEVENT
DTSTART;TZID=UTC:20220418T190000
DTEND;TZID=UTC:20220418T210000
DTSTAMP:20260424T034308
CREATED:20220113T094410Z
LAST-MODIFIED:20220113T094410Z
UID:207563-1650308400-1650315600@quiltingwithlori.com
SUMMARY:Lecture:  Art & Landscape; Country Crossroads QG; Forreston IL
DESCRIPTION:
URL:https://quiltingwithlori.com/event/lecture-art-country-crossroads-qg-forreston-il/
END:VEVENT
BEGIN:VEVENT
DTSTART;TZID=UTC:20220418T090000
DTEND;TZID=UTC:20220418T150000
DTSTAMP:20260424T034308
CREATED:20220113T094318Z
LAST-MODIFIED:20220113T094318Z
UID:207561-1650272400-1650294000@quiltingwithlori.com
SUMMARY:Workshop: Lady Bug; Country Crossroads QG; Forreston IL
DESCRIPTION:
URL:https://quiltingwithlori.com/event/workshop-lady-bug-country-crossroads-qg-forreston-il/
END:VEVENT
BEGIN:VEVENT
DTSTART;TZID=UTC:20220401T103000
DTEND;TZID=UTC:20220402T130000
DTSTAMP:20260424T034308
CREATED:20220113T093931Z
LAST-MODIFIED:20220209T190502Z
UID:207555-1648809000-1648904400@quiltingwithlori.com
SUMMARY:Workshop: Sunny Dresden's; Mountain Cabin QG; Alberta Canada
DESCRIPTION:
URL:https://quiltingwithlori.com/event/workshop-sunny-dresdens-mountain-cabin-qg-alberta-canada/
END:VEVENT
BEGIN:VEVENT
DTSTART;TZID=UTC:20220319T130000
DTEND;TZID=UTC:20220319T150000
DTSTAMP:20260424T034308
CREATED:20220308T224736Z
LAST-MODIFIED:20220308T224736Z
UID:207700-1647694800-1647702000@quiltingwithlori.com
SUMMARY:Workshop:  Speedy Solutions/Cut & Organize Scraps; QWL Event Nat'l Quilting Day
DESCRIPTION:
URL:https://quiltingwithlori.com/event/workshop-speedy-solutions-cut-qwl-event-natl-quilting-day/
END:VEVENT
BEGIN:VEVENT
DTSTART;TZID=UTC:20220316T180000
DTEND;TZID=UTC:20220316T200000
DTSTAMP:20260424T034308
CREATED:20220308T224113Z
LAST-MODIFIED:20220308T224113Z
UID:207698-1647453600-1647460800@quiltingwithlori.com
SUMMARY:Lecture: My Favorite 3-D's; Pieceful Patchers; E. Williston\, NY
DESCRIPTION:
URL:https://quiltingwithlori.com/event/lecture-my-favorite-3-ds-pieceful-patchers-e-williston-ny/
END:VEVENT
BEGIN:VEVENT
DTSTART;TZID=UTC:20220125T203000
DTEND;TZID=UTC:20220125T223000
DTSTAMP:20260424T034308
CREATED:20220113T094046Z
LAST-MODIFIED:20220113T094046Z
UID:207557-1643142600-1643149800@quiltingwithlori.com
SUMMARY:Lecture: Speedy Solutions Scraps; South Bay QG; Torrance CA
DESCRIPTION:
URL:https://quiltingwithlori.com/event/lecture-speedy-solutions-scraps-south-bay-qg-torrance-ca/
END:VEVENT
BEGIN:VEVENT
DTSTART;TZID=UTC:20211120T083000
DTEND;TZID=UTC:20211120T160000
DTSTAMP:20260424T034308
CREATED:20220113T093103Z
LAST-MODIFIED:20220113T093103Z
UID:207551-1637397000-1637424000@quiltingwithlori.com
SUMMARY:Workshop: Sunny Dresdens; Rio Grance Valley QG; Harlingen TX
DESCRIPTION:
URL:https://quiltingwithlori.com/event/workshop-sunny-dresdens-rio-grance-valley-qg-harlingen-tx/
END:VEVENT
BEGIN:VEVENT
DTSTART;TZID=UTC:20211115T100000
DTEND;TZID=UTC:20211115T123000
DTSTAMP:20260424T034308
CREATED:20220113T093224Z
LAST-MODIFIED:20220113T093224Z
UID:207553-1636970400-1636979400@quiltingwithlori.com
SUMMARY:Lecture: My Fav 3-D's; UUMC QG; San Antonio TX
DESCRIPTION:
URL:https://quiltingwithlori.com/event/lecture-my-fav-3-ds-uumc-qg-san-antonio-tx/
END:VEVENT
BEGIN:VEVENT
DTSTART;TZID=UTC:20211113T090000
DTEND;TZID=UTC:20211113T110000
DTSTAMP:20260424T034308
CREATED:20220113T093012Z
LAST-MODIFIED:20220113T093012Z
UID:207549-1636794000-1636801200@quiltingwithlori.com
SUMMARY:Lecture: Speedy Solutions Scraps/ Rio Grance Valley QG; Harlingen TX
DESCRIPTION:
URL:https://quiltingwithlori.com/event/lecture-speedy-solutions-scraps-rio-grance-valley-qg-harlingen-tx/
END:VEVENT
BEGIN:VEVENT
DTSTART;TZID=UTC:20211111T100000
DTEND;TZID=UTC:20211111T120000
DTSTAMP:20260424T034308
CREATED:20220113T082106Z
LAST-MODIFIED:20220113T083631Z
UID:207501-1636624800-1636632000@quiltingwithlori.com
SUMMARY:Lecture:  My Favorite 3-D's; Country QG; Delafield WI
DESCRIPTION:
URL:https://quiltingwithlori.com/event/lecture-my-favorite-3-ds-15/
LOCATION:Country Quilters Guild\, Delafield\, WI\, United States
END:VEVENT
BEGIN:VEVENT
DTSTART;TZID=UTC:20211105T130000
DTEND;TZID=UTC:20211106T160000
DTSTAMP:20260424T034308
CREATED:20220113T081915Z
LAST-MODIFIED:20220113T083712Z
UID:207498-1636117200-1636214400@quiltingwithlori.com
SUMMARY:Workshop:  Starlight; Ottawa Valley QG; Canada
DESCRIPTION:
URL:https://quiltingwithlori.com/event/workshop-starlight/
LOCATION:Ottawa Valley Quilters Guild\, Ottawa\, Ontario\, Canada
END:VEVENT
BEGIN:VEVENT
DTSTART;TZID=UTC:20211019T100000
DTEND;TZID=UTC:20211019T123000
DTSTAMP:20260424T034308
CREATED:20220113T081515Z
LAST-MODIFIED:20220113T083748Z
UID:207496-1634637600-1634646600@quiltingwithlori.com
SUMMARY:Lecture:  My Favorite 3-D's; Nimble Thimblers; Chandler AZ
DESCRIPTION:
URL:https://quiltingwithlori.com/event/lecture-my-favorite-3-ds-14/
LOCATION:Nimble Thimblers Quilt Guild\, Chandler\, AZ\, United States
END:VEVENT
BEGIN:VEVENT
DTSTART;TZID=UTC:20211019T090000
DTEND;TZID=UTC:20211019T113000
DTSTAMP:20260424T034308
CREATED:20220113T083119Z
LAST-MODIFIED:20220113T083528Z
UID:207504-1634634000-1634643000@quiltingwithlori.com
SUMMARY:Lecture:  My Favorite 3-D's; Greater Columbia QG; Lexington SC
DESCRIPTION:
URL:https://quiltingwithlori.com/event/lecture-my-favorite-3-ds-16/
LOCATION:Greater Columbia Quilters Guild\, Lexington\, SC\, United States
END:VEVENT
BEGIN:VEVENT
DTSTART;TZID=UTC:20211009T103000
DTEND;TZID=UTC:20211009T120000
DTSTAMP:20260424T034308
CREATED:20220113T081108Z
LAST-MODIFIED:20220113T083923Z
UID:207493-1633775400-1633780800@quiltingwithlori.com
SUMMARY:Lecture:  My Favorite 3-D's: Empire QG; Manhattan NY
DESCRIPTION:
URL:https://quiltingwithlori.com/event/lecture-my-favorite-3-ds-13/
LOCATION:Empire Quilt Guild\, ManHattan\, NY\, United States
END:VEVENT
BEGIN:VEVENT
DTSTART;TZID=UTC:20210921T190000
DTEND;TZID=UTC:20210921T210000
DTSTAMP:20260424T034308
CREATED:20220113T080858Z
LAST-MODIFIED:20220113T084015Z
UID:207490-1632250800-1632258000@quiltingwithlori.com
SUMMARY:Lecture:  Speedy Solutions Scraps; Metro Detroit QG; Detroit MI
DESCRIPTION:
URL:https://quiltingwithlori.com/event/lecture-speedy-solutions-to-cut-organize-your-scrap-stash-3/
LOCATION:Metro Detroit Quilt Guild\, Detroit\, MI\, United States
END:VEVENT
BEGIN:VEVENT
DTSTART;TZID=UTC:20210909T140000
DTEND;TZID=UTC:20210909T153000
DTSTAMP:20260424T034308
CREATED:20220113T080724Z
LAST-MODIFIED:20220113T084107Z
UID:207487-1631196000-1631201400@quiltingwithlori.com
SUMMARY:Lecture:  Speedy Solutions Scraps: Grt WI Quilt Show Madison WI
DESCRIPTION:
URL:https://quiltingwithlori.com/event/lecture-speedy-solutions-to-cut-organize-your-scrap-stash-2/
LOCATION:Great Wisconson Quilt Show\, Madison\, WI\, United States
END:VEVENT
BEGIN:VEVENT
DTSTART;TZID=UTC:20210810T100000
DTEND;TZID=UTC:20210810T120000
DTSTAMP:20260424T034308
CREATED:20220113T080559Z
LAST-MODIFIED:20220113T084157Z
UID:207484-1628589600-1628596800@quiltingwithlori.com
SUMMARY:Lecture:  Speedy Solutions Scraps; QG by the Sea; Boca Raton FL
DESCRIPTION:
URL:https://quiltingwithlori.com/event/lecture-speedy-solutions-to-cut-organize-your-scrap-stash/
LOCATION:Quilt Guild by the Sea\, Boca Raton\, FL\, United States
END:VEVENT
BEGIN:VEVENT
DTSTART;TZID=UTC:20210729T190000
DTEND;TZID=UTC:20210729T210000
DTSTAMP:20260424T034308
CREATED:20220113T080133Z
LAST-MODIFIED:20220113T084304Z
UID:207479-1627585200-1627592400@quiltingwithlori.com
SUMMARY:Lecture;  Art & Landscape; Baton Rouge LA QGs
DESCRIPTION:
URL:https://quiltingwithlori.com/event/lecture-art-landscape-quilts/
LOCATION:Baton Rouge Quilt Guilds\, Baton rouge\, LA\, United States
END:VEVENT
BEGIN:VEVENT
DTSTART;TZID=UTC:20210714T090000
DTEND;TZID=UTC:20210714T160000
DTSTAMP:20260424T034308
CREATED:20220113T080218Z
LAST-MODIFIED:20220113T084408Z
UID:207482-1626253200-1626278400@quiltingwithlori.com
SUMMARY:Workshop:  Lady Bug Lady Bug; Lincoln QG; Lincoln NE
DESCRIPTION:
URL:https://quiltingwithlori.com/event/workshop-lady-bug-lady-bug-2/
LOCATION:Baton Rouge Quilt Guilds\, Baton rouge\, LA\, United States
END:VEVENT
BEGIN:VEVENT
DTSTART;TZID=UTC:20210713T190000
DTEND;TZID=UTC:20210713T210000
DTSTAMP:20260424T034308
CREATED:20220113T084450Z
LAST-MODIFIED:20220113T084450Z
UID:207517-1626202800-1626210000@quiltingwithlori.com
SUMMARY:Lecture: Speedy Solutions Scraps; Lincoln NE
DESCRIPTION:
URL:https://quiltingwithlori.com/event/lecture-speedy-solutions-scraps-lincoln-ne/
END:VEVENT
BEGIN:VEVENT
DTSTART;TZID=UTC:20210709T190000
DTEND;TZID=UTC:20210709T210000
DTSTAMP:20260424T034308
CREATED:20220113T075755Z
LAST-MODIFIED:20220113T085309Z
UID:207471-1625857200-1625864400@quiltingwithlori.com
SUMMARY:Lecture:  My Favorite 3-D's; Boonslick Trl QG; Columbia MO
DESCRIPTION:
URL:https://quiltingwithlori.com/event/lecture-my-favorite-3-ds-12/
LOCATION:Boonslick Trail Quilt Co\, Columbia\, MO\, United States
END:VEVENT
BEGIN:VEVENT
DTSTART;TZID=UTC:20210609T100000
DTEND;TZID=UTC:20210609T120000
DTSTAMP:20260424T034308
CREATED:20220112T030552Z
LAST-MODIFIED:20220113T085642Z
UID:207305-1623232800-1623240000@quiltingwithlori.com
SUMMARY:Lecture: My Favorite 3-D's; Patched Lives QG; Wales WI
DESCRIPTION:
URL:https://quiltingwithlori.com/event/lecture-my-favorite-3-ds-11/
LOCATION:Patched Lives Quilt Guild\, Wales\, WI\, United States
END:VEVENT
BEGIN:VEVENT
DTSTART;TZID=UTC:20210520T100000
DTEND;TZID=UTC:20210520T120000
DTSTAMP:20260424T034308
CREATED:20220113T085733Z
LAST-MODIFIED:20220113T085733Z
UID:207299-1621504800-1621512000@quiltingwithlori.com
SUMMARY:Lecture:  Speedy Solutions Scraps; Scrapbag QG; Durand IL
DESCRIPTION:
URL:https://quiltingwithlori.com/event/lecture-speedy-solutions-scraps-scrapbag-qg-durand-il/
LOCATION:Scrapbag Quilters\, Durand\, IL\, United States
END:VEVENT
BEGIN:VEVENT
DTSTART;TZID=UTC:20210518T190000
DTEND;TZID=UTC:20210518T210000
DTSTAMP:20260424T034308
CREATED:20220112T030207Z
LAST-MODIFIED:20220113T085814Z
UID:207296-1621364400-1621371600@quiltingwithlori.com
SUMMARY:Lecture:  Speedy Solutions Scraps; Rock Valley QG; Janesville WI
DESCRIPTION:
URL:https://quiltingwithlori.com/event/lecture-speedy-solutions-to-scrap-stash-2/
LOCATION:Rock Valey Quilt Guild\, Janesville\, WI\, United States
END:VEVENT
BEGIN:VEVENT
DTSTART;TZID=UTC:20210517T190000
DTEND;TZID=UTC:20210517T210000
DTSTAMP:20260424T034308
CREATED:20220112T030039Z
LAST-MODIFIED:20220113T085929Z
UID:207293-1621278000-1621285200@quiltingwithlori.com
SUMMARY:Lecture: My Favorite 3-D's; Western QG; Hillsboro OR
DESCRIPTION:
URL:https://quiltingwithlori.com/event/lecture-my-favorite-3-ds-10/
LOCATION:Westside Quilters Guild\, Hillsboro\, OR\, United States
END:VEVENT
END:VCALENDAR